BEGIN:VCALENDAR
VERSION:2.0
PRODID:-//ChamberMaster//Event Calendar 2.0//EN
METHOD:PUBLISH
X-PUBLISHED-TTL:P3D
REFRESH-INTERVAL:P3D
CALSCALE:GREGORIAN
BEGIN:VEVENT
DTSTART:20250428T150000Z
DTEND:20250428T223000Z
X-MICROSOFT-CDO-ALLDAYEVENT:FALSE
SUMMARY:Mental Health First Aid - In Person Adult Blended Course
DESCRIPTION:Mental Health First Aid is an interactive course that teaches people how to assist and support others who may be experiencing a mental health or substance use challenge. The curriculum includes a two-hour self-paced course\, & a six-hour in person session led by MHFA instructors. You will receive communications about the self-paced course 2 weeks before the course start date. To attend\, you must:   Complete a self-paced course prior to class.   Have a valid email address to receive materials and log in. Registration closes on 4/14/25\, so sign up now! Mental Health First Aid - In Person Adult Blended Course - April 28\, 2025
X-ALT-DESC;FMTTYPE=text/html:<span style="color:rgba(51\, 51\, 51\, 0.68)\; font-family:ctsans\,sans-serif\; font-size:14px">Mental Health First Aid is an interactive course that teaches people how to assist and support others who may be experiencing a mental health or substance use challenge. The curriculum includes a two-hour self-paced course\, &amp\; a six-hour in person session led by MHFA instructors. You will receive communications about the self-paced course 2 weeks before the course start date. To attend\, you must: &bull\; Complete a self-paced course prior to class. &bull\; Have a valid email address to receive materials and log in. Registration closes on 4/14/25\, so sign up now!&nbsp\;</span><a href="https://lp.constantcontactpages.com/ev/reg/pv3649k">Mental Health First Aid - In Person Adult Blended Course - April 28\, 2025</a>
LOCATION:Red Rocks Community College\, 13300 W. 6th Ave.\, Grays/Torreys (1571/1572)\, Lakewood\, CO 80228
UID:e.298.99433
SEQUENCE:3
DTSTAMP:20260420T103045Z
URL:https://members.evergreenchamber.org/events/details/mental-health-first-aid-in-person-adult-blended-course-04-28-2025-99433
END:VEVENT

END:VCALENDAR
