BEGIN:VCALENDAR
VERSION:2.0
PRODID:-//ChamberMaster//Event Calendar 2.0//EN
METHOD:PUBLISH
X-PUBLISHED-TTL:P3D
REFRESH-INTERVAL:P3D
CALSCALE:GREGORIAN
BEGIN:VEVENT
DTSTART:20251106T003000Z
DTEND:20251106T013000Z
X-MICROSOFT-CDO-ALLDAYEVENT:FALSE
SUMMARY:Meditative Sound Bath
DESCRIPTION:Join Brenda for a transformative vibrational mediation to harmonize emotions and thought patterns while soothing tensions in the body. Sensation is integrated with mindful intention to enliven energy centers and internal wisdom. Wear comfortable clothes\, bring a water bottle\, head pillow\, and yoga mat (if you have one).
X-ALT-DESC;FMTTYPE=text/html:Join Brenda for a transformative vibrational mediation to harmonize emotions and thought patterns while soothing tensions in the body. Sensation is integrated with mindful intention to enliven energy centers and internal wisdom. Wear comfortable clothes\, bring a water bottle\, head pillow\, and yoga mat (if you have one).&nbsp\;<br />\n&nbsp\;\n<div>&nbsp\;</div>\n
LOCATION:IN PERSON OR ONLINE: In Person: Taspen's Yoga and Healing Center 25797 Conifer Rd Ste C-130\, Conifer\, CO 80433\, USA REGISTER HERE: https://peaceworksinc.co/events To Join Online\, please use the Zoom Link Below: https://us06web.zoom.us/j/3038388181?pwd=QVFOYkdYQ2pJQlJST1FJSHRtSXFLZz09&omn=97649440007 Meeting ID 3038388181 Passcode 993660
UID:e.298.103977
SEQUENCE:3
DTSTAMP:20260419T224750Z
URL:https://members.evergreenchamber.org/events/details/meditative-sound-bath-11-05-2025-103977
END:VEVENT

END:VCALENDAR
