BEGIN:VCALENDAR
VERSION:2.0
PRODID:-//ChamberMaster//Event Calendar 2.0//EN
METHOD:PUBLISH
X-PUBLISHED-TTL:P3D
REFRESH-INTERVAL:P3D
CALSCALE:GREGORIAN
BEGIN:VEVENT
DTSTART:20241110T030000Z
DTEND:20241110T060000Z
X-MICROSOFT-CDO-ALLDAYEVENT:FALSE
SUMMARY:Local Karaoke
DESCRIPTION:Local Karaoke every Saturday night.  300\,000 songs to choose from.  Hosted by Brad.  All types of music!  Ask about our monthly Karaoke Contest on the first Saturday of the month!  Prizes for best overall performance\, spin the wheel winner & genre of the month winner.\n\nOctober 5th is Spooky/Halloween songs.\n\nNovember 2nd is Metal Hair Bands\n\nDecember 7th is Holiday Songs
X-ALT-DESC;FMTTYPE=text/html:<div>\n<div>\n<p>Local Karaoke every Saturday night.&nbsp\; 300\,000 songs to choose from.&nbsp\; Hosted by Brad.&nbsp\; All types of music!&nbsp\; Ask about our monthly Karaoke Contest on the first Saturday of the month!&nbsp\; Prizes for best overall performance\, spin the wheel winner &amp\;&nbsp\;genre of the month winner.</p>\n\n<p>October 5th is Spooky/Halloween songs.</p>\n\n<p>November 2nd is Metal Hair Bands</p>\n\n<p>December 7th is Holiday Songs</p>\n</div>\n</div>\n
LOCATION:
UID:e.298.94607
SEQUENCE:3
DTSTAMP:20260422T165732Z
URL:https://members.evergreenchamber.org/events/details/local-karaoke-11-09-2024-94607
END:VEVENT

END:VCALENDAR
