BEGIN:VCALENDAR
VERSION:2.0
PRODID:-//ChamberMaster//Event Calendar 2.0//EN
METHOD:PUBLISH
X-PUBLISHED-TTL:P3D
REFRESH-INTERVAL:P3D
CALSCALE:GREGORIAN
BEGIN:VEVENT
DTSTART:20250607T230000Z
DTEND:20250608T010000Z
X-MICROSOFT-CDO-ALLDAYEVENT:FALSE
SUMMARY:Saturday Night Live Music by Tony Fire!!
DESCRIPTION:Join us this Saturday for live music by Tony Fire 5 to 7pm. Tony will be back playing live on the patio bringing good vibes\, and great music. Food & drink specials. Happy Hour 3 to 5pm. Cheers!!
X-ALT-DESC;FMTTYPE=text/html:Join us this Saturday for live music by Tony Fire 5 to 7pm. Tony will be back playing live on the patio bringing good vibes\, and great music. Food &amp\; drink specials. Happy Hour 3 to 5pm. Cheers!!&nbsp\;
LOCATION:Revival Brews Downtown Evergreen
UID:e.298.99700
SEQUENCE:3
DTSTAMP:20260420T073126Z
URL:https://members.evergreenchamber.org/events/details/live-music-by-tony-fire-schools-out-for-summer-party-at-5pm-99700
END:VEVENT

END:VCALENDAR
