BEGIN:VCALENDAR
VERSION:2.0
PRODID:-//ChamberMaster//Event Calendar 2.0//EN
METHOD:PUBLISH
X-PUBLISHED-TTL:P3D
REFRESH-INTERVAL:P3D
CALSCALE:GREGORIAN
BEGIN:VEVENT
DTSTART:20210709T230000Z
DTEND:20210710T020000Z
X-MICROSOFT-CDO-ALLDAYEVENT:FALSE
SUMMARY:Lisa D & Wendi Lee Acoustic Duo live at The Wild Game Evergreen
DESCRIPTION:Lisa D & Wendi Lee are an acoustic duo covering everything from classic rock to Americana. Both ladies have years of experience fronting bands and singing harmonies. No cover.
X-ALT-DESC;FMTTYPE=text/html:Lisa D &amp\; Wendi Lee are an acoustic duo covering everything from classic rock to Americana. Both ladies have years of experience fronting bands and singing harmonies. No cover.
LOCATION:1204 BERGEN PARKWAY EVERGREEN\, CO 80439 (720) 630-8888 INFO@THEWILDGAMEEVERGREEN.COM
UID:e.298.84343
SEQUENCE:3
DTSTAMP:20260425T031558Z
URL:https://members.evergreenchamber.org/events/details/lisa-d-wendi-lee-acoustic-duo-live-at-the-wild-game-evergreen-84343
END:VEVENT

END:VCALENDAR
