BEGIN:VCALENDAR
VERSION:2.0
PRODID:-//ChamberMaster//Event Calendar 2.0//EN
METHOD:PUBLISH
X-PUBLISHED-TTL:P3D
REFRESH-INTERVAL:P3D
CALSCALE:GREGORIAN
BEGIN:VEVENT
DTSTART:20210820T230000Z
DTEND:20210821T020000Z
X-MICROSOFT-CDO-ALLDAYEVENT:FALSE
SUMMARY:Lisa D and Wendi Lee Return to The Wild Game Evergreen
DESCRIPTION:Lisa D & Wendi Lee are an acoustic duo covering everything from classic rock to Americana. Both ladies have years of experience fronting bands and singing harmonies. No cover.
X-ALT-DESC;FMTTYPE=text/html:Lisa D &amp\; Wendi Lee are an acoustic duo covering everything from classic rock to Americana. Both ladies have years of experience fronting bands and singing harmonies. No cover.
LOCATION:The Wild Game Evergreen 1204 Bergen Parkway Evergreen\, CO
UID:e.298.84377
SEQUENCE:3
DTSTAMP:20260425T014830Z
URL:https://members.evergreenchamber.org/events/details/lisa-d-and-wendi-lee-return-to-the-wild-game-evergreen-84377
END:VEVENT

END:VCALENDAR
