BEGIN:VCALENDAR
VERSION:2.0
PRODID:-//ChamberMaster//Event Calendar 2.0//EN
METHOD:PUBLISH
X-PUBLISHED-TTL:P3D
REFRESH-INTERVAL:P3D
CALSCALE:GREGORIAN
BEGIN:VEVENT
DTSTART:20250514T150000Z
DTEND:20250514T170000Z
X-MICROSOFT-CDO-ALLDAYEVENT:FALSE
SUMMARY:Legacy Letters Event at Bergen Park Church
DESCRIPTION:Join us for a powerful Legacy Letter Workshop a transformative experience where you'll craft a heartfelt letter that will impact your family for generations. This FREE event is open to the entire community\, but registration is required. Register today: https://www.legacyletter.com/events/legacy-letter-denver-bergen-park-church
X-ALT-DESC;FMTTYPE=text/html:Join us for a powerful Legacy Letter Workshop&mdash\;a transformative experience where you&rsquo\;ll craft a heartfelt letter that will impact your family for generations. This FREE event is open to the entire community\, but registration is required. Register today: https://www.legacyletter.com/events/legacy-letter-denver-bergen-park-church
LOCATION:Bergen Park Church 31919 Rocky Village Drive
UID:e.298.99573
SEQUENCE:3
DTSTAMP:20260420T085755Z
URL:https://members.evergreenchamber.org/events/details/legacy-letters-event-at-bergen-park-church-99573
END:VEVENT

END:VCALENDAR
