BEGIN:VCALENDAR
VERSION:2.0
PRODID:-//ChamberMaster//Event Calendar 2.0//EN
METHOD:PUBLISH
X-PUBLISHED-TTL:P3D
REFRESH-INTERVAL:P3D
CALSCALE:GREGORIAN
BEGIN:VEVENT
DTSTART:20231118T190000Z
DTEND:20231118T213000Z
X-MICROSOFT-CDO-ALLDAYEVENT:FALSE
SUMMARY:LDO CREATES CARD MAKING EVENT - HOLIDAY CARDS AND GIFT TAGS
DESCRIPTION:Join us to make Christmas themed greeting cards and/or gift tags.\n\nThe event is open to all ages and skill levels. All materials are included!\n\nSaturday\, November 18th\, 2023 at Noon.\n\nThe Farmhouse\n\n32156 Castle Court\, #104\n\nEvergreen\, CO\n\n$40 for 8 cards kits or 20 gift tag kits.\n\nPre-registration and payment is required.\n\nhttps://ldocreates.com/products/christmas-card-and-or-gift-tag-making-event-saturday-november-18-2023-in-person\n\nSpace is limited.
X-ALT-DESC;FMTTYPE=text/html:<p>Join us to make Christmas themed greeting cards and/or gift tags.</p>\n\n<p>The event is open to all ages and skill levels. All materials are included!</p>\n\n<p>Saturday\, November 18th\, 2023 at Noon.</p>\n\n<p>The Farmhouse<br />\n32156 Castle Court\, #104<br />\nEvergreen\, CO</p>\n\n<p>$40 for 8 cards kits or 20 gift tag kits.</p>\n\n<p>Pre-registration and payment is required.<br />\n<a class="x-el x-el-a c2-2g c2-2h c2-33 c2-j c2-k c2-34 c2-m c2-35 c2-3 c2-2k c2-2l c2-s c2-2m" href="https://ldocreates.com/products/christmas-card-and-or-gift-tag-making-event-saturday-november-18-2023-in-person" style="box-sizing: inherit\; color: rgb(109\, 120\, 130)\; font-family: Lora\, serif\; overflow-wrap: break-word\; cursor: pointer\; display: inline\; font-size: 18px\;" target="_blank">https://ldocreates.com/products/christmas-card-and-or-gift-tag-making-event-saturday-november-18-2023-in-person</a></p>\n\n<p>Space is limited.&nbsp\;</p>\n
LOCATION:The Farmhouse 32156 Castle Court\, #104 Evergreen\, CO
UID:e.298.90884
SEQUENCE:3
DTSTAMP:20260423T092640Z
URL:https://members.evergreenchamber.org/events/details/ldo-creates-card-making-event-holiday-cards-and-gift-tags-11-18-2023-90884
END:VEVENT

END:VCALENDAR
