BEGIN:VCALENDAR
VERSION:2.0
PRODID:-//ChamberMaster//Event Calendar 2.0//EN
METHOD:PUBLISH
X-PUBLISHED-TTL:P3D
REFRESH-INTERVAL:P3D
CALSCALE:GREGORIAN
BEGIN:VEVENT
DTSTART:20251107T013000Z
DTEND:20251107T033000Z
X-MICROSOFT-CDO-ALLDAYEVENT:FALSE
SUMMARY:Laughs on the Lake
DESCRIPTION:Join us at Evergreen Lake House for a night of Stand-Up Comedy on November 6\, 2025! Endless laughs\, a cash bar and light snacks will make this event you won't want to miss. Doors open at 6:30pm and comedy sets begin at 7:00pm. Online tickets are $25 and will increase to $30 at the door. 18+ years old only\, please. Opener- Cori Stewart Feature- Edward Bell Headliner- Chris Voth
X-ALT-DESC;FMTTYPE=text/html:Join us at Evergreen Lake House for a night of Stand-Up Comedy on November 6\, 2025! Endless laughs\, a cash bar and light snacks will make this event you won&#39\;t want to miss. Doors open at 6:30pm and comedy sets begin at 7:00pm. Online tickets are $25 and will increase to $30 at the door. 18+ years old only\, please. Opener- Cori Stewart Feature- Edward Bell Headliner- Chris Voth
LOCATION:Evergreen Lake House
UID:e.298.103991
SEQUENCE:3
DTSTAMP:20260420T002227Z
URL:https://members.evergreenchamber.org/events/details/laughs-on-the-lake-103991
END:VEVENT

END:VCALENDAR
