BEGIN:VCALENDAR
VERSION:2.0
PRODID:-//ChamberMaster//Event Calendar 2.0//EN
METHOD:PUBLISH
X-PUBLISHED-TTL:P3D
REFRESH-INTERVAL:P3D
CALSCALE:GREGORIAN
BEGIN:VEVENT
DTSTART:20251102T000000Z
DTEND:20251102T030000Z
X-MICROSOFT-CDO-ALLDAYEVENT:FALSE
SUMMARY:Kids Night Out: Fall into FUN!
DESCRIPTION:Join us for a festive fall evening full of games\, food\, and creativity! Kid's will enjoy a turkey-themed craft\, delicious pizza\, and a sweet twist with pumpkin pie decorating. We'll keep the laughter going with a round of "Pin the Feathers on the Turkey" & plenty of seasonal fun. It's the perfect way to kick off the fall season with friends!
X-ALT-DESC;FMTTYPE=text/html:Join us for a festive fall evening full of games\, food\, and creativity! Kid&#39\;s will enjoy a turkey-themed craft\, delicious pizza\, and a sweet twist with pumpkin pie decorating. We&#39\;ll keep the laughter going with a round of &quot\;Pin the Feathers on the Turkey&quot\; &amp\; plenty of seasonal fun. It&#39\;s the perfect way to kick off the fall season with friends!
LOCATION:Wulf Recreation Center
UID:e.298.103989
SEQUENCE:3
DTSTAMP:20260419T224654Z
URL:https://members.evergreenchamber.org/events/details/kids-night-out-fall-into-fun-103989
END:VEVENT

END:VCALENDAR
