BEGIN:VCALENDAR
VERSION:2.0
PRODID:-//ChamberMaster//Event Calendar 2.0//EN
METHOD:PUBLISH
X-PUBLISHED-TTL:P3D
REFRESH-INTERVAL:P3D
CALSCALE:GREGORIAN
BEGIN:VEVENT
DTSTART:20241005T150000Z
DTEND:20241005T180000Z
X-MICROSOFT-CDO-ALLDAYEVENT:FALSE
SUMMARY:Kids 5K & 10K
DESCRIPTION:
X-ALT-DESC;FMTTYPE=text/html:
LOCATION:Elk Meadow
UID:e.298.91302
SEQUENCE:3
DTSTAMP:20260420T110818Z
URL:https://members.evergreenchamber.org/events/details/kids-5k-10k-91302
END:VEVENT

END:VCALENDAR
