BEGIN:VCALENDAR
VERSION:2.0
PRODID:-//ChamberMaster//Event Calendar 2.0//EN
METHOD:PUBLISH
X-PUBLISHED-TTL:P3D
REFRESH-INTERVAL:P3D
CALSCALE:GREGORIAN
BEGIN:VEVENT
DTSTART:20250225T160000Z
DTEND:20250225T210000Z
X-MICROSOFT-CDO-ALLDAYEVENT:FALSE
SUMMARY:Jeffco Middle School Career Fair Series
DESCRIPTION:Jeffco Middle School Career Fair\nOn February 25\, 2025 the following schools will have a joint Middle School Career Fair: Evergreen Middle\, Dunstan\, Bell\, and West Jeff for 7th grade hosted at Evergreen Middle. Students from participating schools will be bussed to the event to meet with 25-30 businesses or community organizations. \n\n \n\nWe invite families who are interested in showcasing their career or company to join us at the event. You will have a table and two chairs - you bring an interactive activity and "props" or colleagues and showcase your work! Need ideas? We can help! \n\n \n\nEarly exposure to a variety of career options gives students a chance to learn and to begin dreaming of what their future career could look like. These educational opportunities can also give students a tangible goal to work for and help keep them on track during their middle and high school years.\n\n \nEvent Options and Sign Up\n\nEvent flyer\n\n \nTables\, chairs\, breakfast and lunch will be provided. Electricity will be provided upon request & availability. Specific logistics will be shared closer to the event. For now please fill out the form to register to participate and mark your calendar. \n\nQuestions? Contact Miranda Ziegler\, Miranda.Ziegler@jeffco.k12.co.us
X-ALT-DESC;FMTTYPE=text/html:<span style="color: rgb(0\, 0\, 0)\; font-family: Aptos\, Aptos_EmbeddedFont\, Aptos_MSFontService\, Calibri\, Helvetica\, sans-serif\; font-size: 16px\; text-align: center\;">&nbsp\;Jeffco Middle School Career Fair</span>\n<div style="direction: ltr\; line-height: 1.38\; margin-top: 0pt\; margin-bottom: 0pt\; font-family: Aptos\, Aptos_EmbeddedFont\, Aptos_MSFontService\, Calibri\, Helvetica\, sans-serif\; font-size: 12pt\; color: rgb(0\, 0\, 0)\;"><span style="font-weight: 700\;">On February 25\, 2025 the following schools will have a joint Middle School Career Fair: Evergreen Middle\, Dunstan\, Bell\, and West Jeff for 7th grade hosted at Evergreen Middle.&nbsp\;</span>Students from participating schools will be bussed to the event to meet with 25-30 businesses or community organizations.&nbsp\;</div>\n\n<div style="font-family: Aptos\, Aptos_EmbeddedFont\, Aptos_MSFontService\, Calibri\, Helvetica\, sans-serif\; font-size: 12pt\; color: rgb(0\, 0\, 0)\;">&nbsp\;</div>\n\n<div style="direction: ltr\; line-height: 1.38\; margin-top: 0pt\; margin-bottom: 0pt\; font-family: Aptos\, Aptos_EmbeddedFont\, Aptos_MSFontService\, Calibri\, Helvetica\, sans-serif\; font-size: 12pt\; color: rgb(0\, 0\, 0)\;"><span style="font-weight: 700\;">We invite families who are interested in showcasing their career or company to join us at the event.&nbsp\;</span>You will have a table and two chairs - you bring an interactive activity and &ldquo\;props&rdquo\; or colleagues and showcase your work! Need ideas? We can help!&nbsp\;</div>\n\n<div style="font-family: Aptos\, Aptos_EmbeddedFont\, Aptos_MSFontService\, Calibri\, Helvetica\, sans-serif\; font-size: 12pt\; color: rgb(0\, 0\, 0)\;">&nbsp\;</div>\n\n<div style="direction: ltr\; line-height: 1.38\; margin-top: 0pt\; margin-bottom: 0pt\; font-family: Aptos\, Aptos_EmbeddedFont\, Aptos_MSFontService\, Calibri\, Helvetica\, sans-serif\; font-size: 12pt\; color: rgb(0\, 0\, 0)\;">Early exposure to a variety of career options gives students a chance to learn and to begin dreaming of what their future career could look like. These educational opportunities can also give students a tangible goal to work for and help keep them on track during their middle and high school years.<br />\n&nbsp\;\n<div style="direction: ltr\; line-height: 1.38\; margin-top: 0pt\; margin-bottom: 0pt\; font-family: Aptos\, Aptos_EmbeddedFont\, Aptos_MSFontService\, Calibri\, Helvetica\, sans-serif\; font-size: 12pt\; color: rgb(17\, 85\, 204)\;"><span style="font-weight: 700\;"><u><a data-saferedirecturl="https://www.google.com/url?q=https://docs.google.com/forms/d/e/1FAIpQLSd7QpvgDJj3PxOr6noM072WsJlwfQyw-M0AFyCQTBn9oMIPLg/viewform&amp\;source=gmail&amp\;ust=1736963242281000&amp\;usg=AOvVaw0lR3KWZ3a27Ehmq135u05v" href="https://docs.google.com/forms/d/e/1FAIpQLSd7QpvgDJj3PxOr6noM072WsJlwfQyw-M0AFyCQTBn9oMIPLg/viewform" id="m_8917878778293474418OWAa25c6554-5b4b-9031-cf43-72d3fdcf6d8b" style="color: rgb(17\, 85\, 204)\; cursor: pointer\;" target="_blank">Event Options and Sign Up</a></u></span></div>\n\n<div style="direction: ltr\; line-height: 1.38\; margin-top: 0pt\; margin-bottom: 0pt\; font-family: Aptos\, Aptos_EmbeddedFont\, Aptos_MSFontService\, Calibri\, Helvetica\, sans-serif\; font-size: 12pt\; color: rgb(17\, 85\, 204)\;"><span style="font-weight: 700\;"><u><a data-saferedirecturl="https://www.google.com/url?q=https://drive.google.com/file/d/1eEm62fBOhtgk6wQglNJzjyZSNrJbuXHU/view?usp%3Dsharing&amp\;source=gmail&amp\;ust=1736963242281000&amp\;usg=AOvVaw31Q218LSOfAXhVnhHlTlyj" href="https://drive.google.com/file/d/1eEm62fBOhtgk6wQglNJzjyZSNrJbuXHU/view?usp=sharing" id="m_8917878778293474418OWA5e192f55-241e-219d-e042-0e91ba0635fc" style="color: rgb(17\, 85\, 204)\; cursor: pointer\;" target="_blank">Event flyer</a></u></span><br />\n&nbsp\;\n<div style="direction: ltr\; line-height: 1.2\; margin-top: 0pt\; margin-bottom: 0pt\; font-family: Aptos\, Aptos_EmbeddedFont\, Aptos_MSFontService\, Calibri\, Helvetica\, sans-serif\; font-size: 12pt\; color: rgb(0\, 0\, 0)\;">Tables\, chairs\, breakfast and lunch will be provided. Electricity will be provided upon request &amp\; availability.&nbsp\;<i>Specific logistics will be shared closer to the event. For now please fill out the form to register to participate and mark your calendar.&nbsp\;</i></div>\n\n<div style="color: rgb(34\, 34\, 34)\; direction: ltr\; line-height: 1.38\; margin-top: 0pt\; margin-bottom: 0pt\; padding: 11pt 0pt\; font-family: Aptos\, Aptos_EmbeddedFont\, Aptos_MSFontService\, Calibri\, Helvetica\, sans-serif\; font-size: 12pt\;"><span style="color: rgb(0\, 0\, 0)\;"><i>Questions? Contact Miranda Ziegler\,&nbsp\;</i></span><span style="color: rgb(17\, 85\, 204)\;"><i><u><a href="mailto:Miranda.Ziegler@jeffco.k12.co.us" id="m_8917878778293474418OWA5add0b13-a013-a1bc-d945-8d4f3eac2433" style="color: rgb(17\, 85\, 204)\; cursor: pointer\;" target="_blank">Miranda.Ziegler@jeffco.k12.co.<wbr />us</a></u></i></span><span style="color: rgb(0\, 0\, 0)\;"><i>&nbsp\;</i></span></div>\n</div>\n</div>\n
LOCATION:Evergreen Middle School 2059 Hiwan Dr Evergreen\, CO 80439
UID:e.298.98225
SEQUENCE:3
DTSTAMP:20260422T124424Z
URL:https://members.evergreenchamber.org/events/details/jeffco-middle-school-career-fair-series-98225
END:VEVENT

END:VCALENDAR
