BEGIN:VCALENDAR
VERSION:2.0
PRODID:-//ChamberMaster//Event Calendar 2.0//EN
METHOD:PUBLISH
X-PUBLISHED-TTL:P3D
REFRESH-INTERVAL:P3D
CALSCALE:GREGORIAN
BEGIN:VEVENT
DTSTART:20250705T190000Z
DTEND:20250706T020000Z
X-MICROSOFT-CDO-ALLDAYEVENT:FALSE
SUMMARY:Jazz From The Hills
DESCRIPTION:Jazz From The Hills\, a one day music festival featuring four jazz groups from across the front range\, is set for Saturday\, July 5 beginning at 1:00 pm at Center Stage in Evergreen. The kick-off event to Ovation West Performing Arts 2025-26 season and Evergreen Creative District's Mountain Jazz Month\, Jazz From The Hills will feature Blue Sky Jazz Collective\, The Laurie Dameron Duo\, The Patrick Lee Trio and Clint Dadian Quintet.
X-ALT-DESC;FMTTYPE=text/html:Jazz From The Hills\, a one day music festival featuring four jazz groups from across the front range\, is set for Saturday\, July 5 beginning at 1:00 pm at Center Stage in Evergreen. The kick-off event to Ovation West Performing Arts 2025-26 season and Evergreen Creative District&rsquo\;s Mountain Jazz Month\, Jazz From The Hills will feature Blue Sky Jazz Collective\, The Laurie Dameron Duo\, The Patrick Lee Trio and Clint Dadian Quintet.
LOCATION:27608 Fireweed Dr\, Evergreen\, CO 80439
UID:e.298.100212
SEQUENCE:3
DTSTAMP:20260420T055325Z
URL:https://members.evergreenchamber.org/events/details/jazz-from-the-hills-100212
END:VEVENT

END:VCALENDAR
