BEGIN:VCALENDAR
VERSION:2.0
PRODID:-//ChamberMaster//Event Calendar 2.0//EN
METHOD:PUBLISH
X-PUBLISHED-TTL:P3D
REFRESH-INTERVAL:P3D
CALSCALE:GREGORIAN
BEGIN:VEVENT
DTSTART:20251112T013000Z
DTEND:20251112T030000Z
X-MICROSOFT-CDO-ALLDAYEVENT:FALSE
SUMMARY:Is My Child Well? How Do I Know? (With Craig Knippenber\, LCSW\, M.Div.
DESCRIPTION:WHEN\n\nTuesday\, November 11\, 2025\n\n6:30 PM - 8:00 PM\n\n\n\nLOCATION\n\nMontessori School of Evergreen\n\nMarshdale North Building\n\n6979 Hwy 73 Evergreen\, CO 80439\n\n\n\nIs My Child Well? How Do I know? A Parent Education Session \n\nwith Craig Knippenberg\, LCSW\, M.Div.\n\nHosted by Montessori School of Evergreen\n\n \n\nMontessori School of Evergreen is proud to partner with Craig Knippenberg\, LCSW\, M.Div. - Family Therapist\, Parent Author\, Podcaster\, and Keynote Speaker - for an important parent education session focused on child wellness and mental health.\n\n \n\nOne of the most challenging questions for parents today is: ?How do I really know if my child is okay?? With the increasing pressures of digital connection and constant phone use\, it can be difficult to recognize when a child is struggling. During this session\, Craig will share valuable insights on how to identify when a child may be having difficulties\, understand the difference between healthy and unhealthy coping habits\, and introduce practical tools parents can use to build safe and supportive structures and routines at home. His goal is to help parents navigate one of the most pressing challenges of modern parenting - understanding and supporting a child?s emotional well-being.\n\n \n\nThis FREE event is open to all parents in the foothills community\, including those with children at MSE\, Jeffco\, or other area schools. It is specifically designed for parents of younger school-aged children in grades K through 8 who are entering adolescence. Space is limited\, so please RSVP using the link provided to reserve your spot.\n\n \n\nRSVP In Link Above!\n\n \n\nJoin us for an evening of connection\, guidance\, and meaningful conversation about supporting your child?s mental and emotional health.
X-ALT-DESC;FMTTYPE=text/html:<p style="text-align:center !important"><a class="m-font-size-19 font-size-24" href="https://e.givesmart.com/events/GSV/i/" style="box-sizing: border-box\; border: 0px solid rgb(51\, 51\, 51)\; vertical-align: initial\; -webkit-font-smoothing: antialiased\; color: rgb(152\, 152\, 152)\; outline: 0px\; -webkit-tap-highlight-color: transparent\; text-decoration-line: none\; font-weight: 700\; display: initial\; width: auto !important\; height: auto !important\;" target="_blank">WHEN</a></p>\n\n<p style="text-align:center !important"><a class="m-font-size-19 font-size-24" href="https://e.givesmart.com/events/GSV/i/" style="box-sizing: border-box\; border: 0px solid rgb(51\, 51\, 51)\; vertical-align: initial\; -webkit-font-smoothing: antialiased\; outline: 0px\; color: rgb(152\, 152\, 152)\; -webkit-tap-highlight-color: transparent\; text-decoration-line: none\; display: initial\; width: auto !important\; height: auto !important\;" target="_blank">Tuesday\, November 11\, 2025</a></p>\n\n<p style="text-align:center !important">6:30 PM - 8:00 PM</p>\n\n<p style="text-align:center !important"><br>\n<a class="m-font-size-19 font-size-24" href="https://e.givesmart.com/events/GSV/i/" style="box-sizing: border-box\; border: 0px solid rgb(51\, 51\, 51)\; vertical-align: initial\; -webkit-font-smoothing: antialiased\; color: rgb(152\, 152\, 152)\; outline: 0px\; -webkit-tap-highlight-color: transparent\; text-decoration-line: none\; font-weight: 700\; display: initial\; width: auto !important\; height: auto !important\;" target="_blank">LOCATION</a></p>\n\n<p style="text-align:center !important">Montessori School of Evergreen</p>\n\n<p style="text-align:center !important">Marshdale North Building</p>\n\n<p style="text-align:center !important">6979 Hwy 73 Evergreen\, CO 80439</p>\n\n<p style="text-align:center !important"><br>\n<strong>I</strong><a class="m-font-size-19 font-size-18" href="https://e.givesmart.com/events/GSV/i/" style="box-sizing: border-box\; border: 0px solid rgb(51\, 51\, 51)\; vertical-align: initial\; -webkit-font-smoothing: antialiased\; color: rgb(152\, 152\, 152)\; outline: 0px\; -webkit-tap-highlight-color: transparent\; font-weight: bold\; display: initial\; width: auto !important\; height: auto !important\;" target="_blank">s My Child Well? How Do I know? A Parent Education Session&nbsp\;</a></p>\n\n<p style="text-align:center !important"><a class="font-size-18 m-font-size-19" href="https://e.givesmart.com/events/GSV/i/" style="box-sizing: border-box\; border: 0px solid rgb(51\, 51\, 51)\; vertical-align: initial\; -webkit-font-smoothing: antialiased\; color: rgb(152\, 152\, 152)\; outline: 0px\; -webkit-tap-highlight-color: transparent\; font-weight: bold\; display: initial\; width: auto !important\; height: auto !important\;" target="_blank">with Craig Knippenberg\, LCSW\, M.Div.</a></p>\n\n<p style="text-align:center !important"><a class="m-font-size-19 font-size-18" href="https://e.givesmart.com/events/GSV/i/" style="box-sizing: border-box\; border: 0px solid rgb(51\, 51\, 51)\; vertical-align: initial\; -webkit-font-smoothing: antialiased\; color: rgb(152\, 152\, 152)\; outline: 0px\; -webkit-tap-highlight-color: transparent\; text-decoration-line: none\; display: initial\; width: auto !important\; height: auto !important\;" target="_blank">Hosted by Montessori School of Evergreen</a></p>\n\n<p>&nbsp\;</p>\n\n<p style="text-align:center !important"><a class="m-font-size-19 font-size-18" href="https://e.givesmart.com/events/GSV/i/" style="box-sizing: border-box\; border: 0px solid rgb(51\, 51\, 51)\; vertical-align: initial\; -webkit-font-smoothing: antialiased\; color: rgb(152\, 152\, 152)\; outline: 0px\; -webkit-tap-highlight-color: transparent\; text-decoration-line: none\; display: initial\; width: auto !important\; height: auto !important\;" target="_blank">Montessori School of Evergreen is proud to partner with Craig Knippenberg\, LCSW\, M.Div. - Family Therapist\, Parent Author\, Podcaster\, and Keynote Speaker - for an important parent education session focused on child wellness and mental health.</a></p>\n\n<p>&nbsp\;</p>\n\n<p style="text-align:center !important"><a class="m-font-size-19 font-size-18" href="https://e.givesmart.com/events/GSV/i/" style="box-sizing: border-box\; border: 0px solid rgb(51\, 51\, 51)\; vertical-align: initial\; -webkit-font-smoothing: antialiased\; color: rgb(152\, 152\, 152)\; outline: 0px\; -webkit-tap-highlight-color: transparent\; text-decoration-line: none\; display: initial\; width: auto !important\; height: auto !important\;" target="_blank">One of the most challenging questions for parents today is: ?How do I really know if my child is okay?? With the increasing pressures of digital connection and constant phone use\, it can be difficult to recognize when a child is struggling. During this session\, Craig will share valuable insights on how to identify when a child may be having difficulties\, understand the difference between healthy and unhealthy coping habits\, and introduce practical tools parents can use to build safe and supportive structures and routines at home. His goal is to help parents navigate one of the most pressing challenges of modern parenting - understanding and supporting a child?s emotional well-being.</a></p>\n\n<p>&nbsp\;</p>\n\n<p style="text-align:center !important"><a class="m-font-size-19 font-size-18" href="https://e.givesmart.com/events/GSV/i/" style="box-sizing: border-box\; border: 0px solid rgb(51\, 51\, 51)\; vertical-align: initial\; -webkit-font-smoothing: antialiased\; color: rgb(152\, 152\, 152)\; outline: 0px\; -webkit-tap-highlight-color: transparent\; text-decoration-line: none\; display: initial\; width: auto !important\; height: auto !important\;" target="_blank">This FREE event is open to all parents in the foothills community\, including those with children at MSE\, Jeffco\, or other area schools. It is specifically designed for parents of younger school-aged children in grades K through 8 who are entering adolescence. Space is limited\, so please RSVP using the link provided to reserve your spot.</a></p>\n\n<p style="text-align:center !important">&nbsp\;</p>\n\n<p style="text-align:center !important"><a class="m-font-size-19 font-size-18" href="https://e.givesmart.com/events/GSV/i/" style="box-sizing: border-box\; border: 0px solid rgb(51\, 51\, 51)\; vertical-align: initial\; -webkit-font-smoothing: antialiased\; color: rgb(152\, 152\, 152)\; outline: 0px\; -webkit-tap-highlight-color: transparent\; text-decoration-line: none\; display: initial\; width: auto !important\; height: auto !important\;" target="_blank">RSVP</a>&nbsp\;In Link Above!</p>\n\n<p style="text-align:center !important">&nbsp\;</p>\n\n<p style="text-align:center !important"><a class="m-font-size-19 font-size-18" href="https://e.givesmart.com/events/GSV/i/" style="box-sizing: border-box\; border: 0px solid rgb(51\, 51\, 51)\; vertical-align: initial\; -webkit-font-smoothing: antialiased\; color: rgb(152\, 152\, 152)\; outline: 0px\; -webkit-tap-highlight-color: transparent\; text-decoration-line: none\; display: initial\; width: auto !important\; height: auto !important\;" target="_blank">Join us for an evening of connection\, guidance\, and meaningful conversation about supporting your child?s mental and emotional health.</a></p>\n
LOCATION:Montessori School of Evergreen Marshdale North Building 6979 Hwy 73 Evergreen\, CO 80439
UID:e.298.103993
SEQUENCE:3
DTSTAMP:20260419T224926Z
URL:https://members.evergreenchamber.org/events/details/is-my-child-well-how-do-i-know-with-craig-knippenber-lcsw-m-div-103993
END:VEVENT

END:VCALENDAR
