BEGIN:VCALENDAR
VERSION:2.0
PRODID:-//ChamberMaster//Event Calendar 2.0//EN
METHOD:PUBLISH
X-PUBLISHED-TTL:P3D
REFRESH-INTERVAL:P3D
CALSCALE:GREGORIAN
BEGIN:VEVENT
DTSTART:20220304T003000Z
DTEND:20220304T033000Z
X-MICROSOFT-CDO-ALLDAYEVENT:FALSE
SUMMARY:Honoree Celebration-Annual Nonprofit Awards
DESCRIPTION:The Evergreen Chamber of Commerce and Leadership Evergreen join together to recognize our community's best of the past year! The 2022 Honoree Celebration is dedicated to honoring Leader\, Nonprofit\, Volunteer\,  Youth\, and Ambassador of the Year. Join us for appetizers\, drinks\, the awards and a great guest speaker.
X-ALT-DESC;FMTTYPE=text/html:The Evergreen Chamber of Commerce and Leadership Evergreen join together to recognize our community&#39\;s best of the past year! The 2022 Honoree Celebration is dedicated to honoring Leader\, Nonprofit\, Volunteer\,&nbsp\; Youth\, and Ambassador of the Year. Join us for appetizers\, drinks\, the awards and a great guest speaker.&nbsp\;
LOCATION:
UID:e.298.86399
SEQUENCE:3
DTSTAMP:20260422T104910Z
URL:https://members.evergreenchamber.org/events/details/honoree-celebration-annual-nonprofit-awards-86399
END:VEVENT

END:VCALENDAR
