BEGIN:VCALENDAR
VERSION:2.0
PRODID:-//ChamberMaster//Event Calendar 2.0//EN
METHOD:PUBLISH
X-PUBLISHED-TTL:P3D
REFRESH-INTERVAL:P3D
CALSCALE:GREGORIAN
BEGIN:VEVENT
DTSTART:20211202T230000Z
DTEND:20211203T030000Z
X-MICROSOFT-CDO-ALLDAYEVENT:FALSE
SUMMARY:Holiday Market
DESCRIPTION:Holiday Pop-Up Market for local artist and makers! Sweet Hayden and Studio B Yoga have partnered up to help you check off your Christmas list while supporting local small businesses. \n\nDecember 2nd from 4:00 - 8:0027905
X-ALT-DESC;FMTTYPE=text/html:Holiday Pop-Up Market for local artist and makers! Sweet Hayden and Studio B Yoga have partnered up to help you check off your Christmas list while supporting local small businesses.&nbsp\;<br />\nDecember 2nd from 4:00 - 8:0027905&nbsp\;
LOCATION:27905 Meadow Drive\, Evergreen
UID:e.298.85980
SEQUENCE:3
DTSTAMP:20260424T194047Z
URL:https://members.evergreenchamber.org/events/details/holiday-market-85980
END:VEVENT

END:VCALENDAR
