BEGIN:VCALENDAR
VERSION:2.0
PRODID:-//ChamberMaster//Event Calendar 2.0//EN
METHOD:PUBLISH
X-PUBLISHED-TTL:P3D
REFRESH-INTERVAL:P3D
CALSCALE:GREGORIAN
BEGIN:VEVENT
DTSTART:20241026T220000Z
DTEND:20241027T010000Z
X-MICROSOFT-CDO-ALLDAYEVENT:FALSE
SUMMARY:Hiwan Halloween
DESCRIPTION:Family friendly spooky storytelling\, costume parade\, games\, crafts and prizes.
X-ALT-DESC;FMTTYPE=text/html:Family friendly spooky storytelling\, costume parade\, games\, crafts and prizes.
LOCATION:Hiwan Heritage Park & Museum
UID:e.298.94860
SEQUENCE:3
DTSTAMP:20260420T110943Z
URL:https://members.evergreenchamber.org/events/details/hiwan-halloween-10-26-2024-94860
END:VEVENT

END:VCALENDAR
