BEGIN:VCALENDAR
VERSION:2.0
PRODID:-//ChamberMaster//Event Calendar 2.0//EN
METHOD:PUBLISH
X-PUBLISHED-TTL:P3D
REFRESH-INTERVAL:P3D
CALSCALE:GREGORIAN
BEGIN:VEVENT
DTSTART:20211013T233000Z
DTEND:20211014T024500Z
X-MICROSOFT-CDO-ALLDAYEVENT:FALSE
SUMMARY:Helping Kids Thrive Parent Conference & Wellness Fair
DESCRIPTION:Jefferson Center for Mental Health's Helping Kids Thrive event is back for a virtual conference! Sign up now for our FREE Helping Kids Thrive Conference and Wellness Fair\, where you'll receive practical tools\, tips\, and tricks to help kids of all ages grow in positive ways. This year\, the event will run virtually on Wednesday\, October 13\, from 5:30-8:45 p.m. You will be able to participate in two live\, 90-minute classes AND have access to all the recorded sessions after the event. This year\, we have a lineup classes including: -Taming the Anxious Mind -Creative Co-Parenting -Caring for LGBTQ+ -Parenting During COVID -and many more! This conference fills up fast\, so register today! Register here: https://www.eventbrite.com/e/helping-kids-thrive-2021-parent-conference-and-wellness-fair-tickets-169145904955
X-ALT-DESC;FMTTYPE=text/html:Jefferson Center for Mental Health&#39\;s Helping Kids Thrive event is back for a virtual conference! Sign up now for our FREE Helping Kids Thrive Conference and Wellness Fair\, where you&rsquo\;ll receive practical tools\, tips\, and tricks to help kids of all ages grow in positive ways. This year\, the event will run virtually on Wednesday\, October 13\, from 5:30-8:45 p.m. You will be able to participate in two live\, 90-minute classes AND have access to all the recorded sessions after the event. This year\, we have a lineup classes including: -Taming the Anxious Mind -Creative Co-Parenting -Caring for LGBTQ+ -Parenting During COVID -and many more! This conference fills up fast\, so register today! Register here: https://www.eventbrite.com/e/helping-kids-thrive-2021-parent-conference-and-wellness-fair-tickets-169145904955
LOCATION:VIRTUAL
UID:e.298.85877
SEQUENCE:3
DTSTAMP:20260424T224404Z
URL:https://members.evergreenchamber.org/events/details/helping-kids-thrive-parent-conference-wellness-fair-85877
END:VEVENT

END:VCALENDAR
