BEGIN:VCALENDAR
VERSION:2.0
PRODID:-//ChamberMaster//Event Calendar 2.0//EN
METHOD:PUBLISH
X-PUBLISHED-TTL:P3D
REFRESH-INTERVAL:P3D
CALSCALE:GREGORIAN
BEGIN:VEVENT
DTSTART:20220421T010000Z
DTEND:20220421T020000Z
X-MICROSOFT-CDO-ALLDAYEVENT:FALSE
SUMMARY:Healing Sound Bath
DESCRIPTION:Healing Sound Bath\n\nwith Lauren Gale & Nolen Shaber\n\nStudio B Yoga \n\n \n\nJoin us for a journey through sound. Your body will enter a parasympathetic state where natural healing can occur. Lauren uses instruments from all over the world including crystal and metal singing bowls\, didgeridoo\, handpan\, tongue drum\, Native drum and various other percussion to bring you to a state of calm and balance. Let the vibrations course through you as you set an intention for the healing you need. \n\n \n\nPlease bring a yoga mat\, pillow\, blanket and anything else for your own personal comfort. Doors open at 6:30p\, and sound starts promptly at 7:00p. Please come early to set up your comfort zone. \n\n \n\nWednesday April 20th\, 7:00p
X-ALT-DESC;FMTTYPE=text/html:<div><strong>Healing Sound Bath</strong></div>\n\n<div><strong>with Lauren Gale &amp\; Nolen Shaber<br />\nStudio B Yoga&nbsp\;</strong></div>\n\n<div>&nbsp\;</div>\n\n<div>Join us for a journey through sound. Your body will enter a parasympathetic state where natural healing can occur. Lauren uses instruments from all over the world including crystal and metal singing bowls\, didgeridoo\, handpan\, tongue drum\, Native drum and various other percussion to bring you to a state of calm and balance. Let the vibrations course through you as you set an intention for the healing you need.&nbsp\;</div>\n\n<div>&nbsp\;</div>\n\n<div>Please bring a yoga mat\, pillow\, blanket and anything else for your own personal comfort. Doors open at 6:30p\, and sound starts promptly at 7:00p. Please come early to set up your comfort zone.&nbsp\;</div>\n\n<div>&nbsp\;</div>\n\n<div>Wednesday April 20th\, 7:00p</div>\n
LOCATION:Studio B Yoga 27905 Meadow Dr. Evergreen\, CO
UID:e.298.87231
SEQUENCE:3
DTSTAMP:20260424T125608Z
URL:https://members.evergreenchamber.org/events/details/healing-sound-bath-87231
END:VEVENT

END:VCALENDAR
