BEGIN:VCALENDAR
VERSION:2.0
PRODID:-//ChamberMaster//Event Calendar 2.0//EN
METHOD:PUBLISH
X-PUBLISHED-TTL:P3D
REFRESH-INTERVAL:P3D
CALSCALE:GREGORIAN
BEGIN:VEVENT
DTSTART:20260509T180000Z
DTEND:20260510T010000Z
X-MICROSOFT-CDO-ALLDAYEVENT:FALSE
SUMMARY:Hat Bar at Sweetwater Boutique
DESCRIPTION:Swing by Sweet Water Boutique for the Second Saturday Hat Bar and snag your perfect new hat! Second Saturday Hat Bar   Mother's Day Edition Sweetwater Boutique | Evergreen\, CO Celebrate Mother's Day weekend by creating a custom hat her style or yours. Bring your mom\, daughter\, or a friend and enjoy a fun\, hands-on experience designing something one of a kind. Planning to stop by? Comment your time and we'll take $5 off your hat as a little thank-you! Hats begin at $55 Create something special. Wear it your way.
X-ALT-DESC;FMTTYPE=text/html:Swing by Sweet Water Boutique for the Second Saturday Hat Bar and snag your perfect new hat! Second Saturday Hat Bar &ndash\; Mother&rsquo\;s Day Edition Sweetwater Boutique | Evergreen\, CO Celebrate Mother&rsquo\;s Day weekend by creating a custom hat&mdash\;her style or yours. Bring your mom\, daughter\, or a friend and enjoy a fun\, hands-on experience designing something one of a kind. Planning to stop by? Comment your time and we&rsquo\;ll take $5 off your hat as a little thank-you! Hats begin at $55 Create something special. Wear it your way.
LOCATION:Sweetwater Boutique 28225 Hwy 74
UID:e.298.106463
SEQUENCE:3
DTSTAMP:20260423T111041Z
URL:https://members.evergreenchamber.org/events/details/hat-bar-at-sweetwater-boutique-106463
END:VEVENT

END:VCALENDAR
