BEGIN:VCALENDAR
VERSION:2.0
PRODID:-//ChamberMaster//Event Calendar 2.0//EN
METHOD:PUBLISH
X-PUBLISHED-TTL:P3D
REFRESH-INTERVAL:P3D
CALSCALE:GREGORIAN
BEGIN:VEVENT
DTSTART:20250725T000000Z
DTEND:20250725T010000Z
X-MICROSOFT-CDO-ALLDAYEVENT:FALSE
SUMMARY:Harvesting Joy Yin Flow Yoga at Peak Cowork
DESCRIPTION:HARVESTING JOY YOGA and PEAK COWORK are partnering to bring you a rejuvenating experience in Evergreen!\n\nThis class combines the dynamic flow style of Vinyasa with the calming practice of Yin. Whether you're a seasoned yogi or a beginner\, this class is suitable for all levels. Come move through energizing sequences and then sink into deep\, restorative poses. Find balance\, flexibility\, and inner peace in this unique fusion of styles.\n\nDon't miss out on this opportunity to nurture your body and mind in a welcoming community setting!\n\nhttps://www.eventbrite.com/e/1500711421259?aff=oddtdtcreator
X-ALT-DESC;FMTTYPE=text/html:<div>HARVESTING JOY YOGA and PEAK COWORK are partnering to bring you a rejuvenating experience in Evergreen!</div>\n\n<div>This class combines the dynamic flow style of Vinyasa with the calming practice of Yin. Whether you&#39\;re a seasoned yogi or a beginner\, this class is suitable for all levels. Come move through energizing sequences and then sink into deep\, restorative poses. Find balance\, flexibility\, and inner peace in this unique fusion of styles.</div>\n\n<div>Don&#39\;t miss out on this opportunity to nurture your body and mind in a welcoming community setting!<br />\n<a href="https://www.eventbrite.com/e/1500711421259?aff=oddtdtcreator" id="LPlnk741560" rel="noopener noreferrer" style="border: 0px\; font-variant-numeric: inherit\; font-variant-east-asian: inherit\; font-variant-alternates: inherit\; font-variant-position: inherit\; font-variant-emoji: inherit\; font-stretch: inherit\; font-size: 15px\; line-height: inherit\; font-family: &quot\;Segoe UI&quot\;\, &quot\;Segoe UI Web (West European)&quot\;\, -apple-system\, &quot\;system-ui&quot\;\, Roboto\, &quot\;Helvetica Neue&quot\;\, sans-serif\; font-optical-sizing: inherit\; font-size-adjust: inherit\; font-kerning: inherit\; font-feature-settings: inherit\; font-variation-settings: inherit\; margin: 0px\; padding: 0px\; vertical-align: baseline\;" target="_blank" title="https://www.eventbrite.com/e/1500711421259?aff=oddtdtcreator">https://www.eventbrite.com/e/1500711421259?aff=oddtdtcreator</a></div>\n
LOCATION:1202 Bergen Parkway\, Evergreen\, CO 80439 Peak Cowork Event Center - Suite 100
UID:e.298.100862
SEQUENCE:3
DTSTAMP:20260420T055447Z
URL:https://members.evergreenchamber.org/events/details/harvesting-joy-yin-flow-yoga-at-peak-cowork-100862
END:VEVENT

END:VCALENDAR
