BEGIN:VCALENDAR
VERSION:2.0
PRODID:-//ChamberMaster//Event Calendar 2.0//EN
METHOD:PUBLISH
X-PUBLISHED-TTL:P3D
REFRESH-INTERVAL:P3D
CALSCALE:GREGORIAN
BEGIN:VEVENT
DTSTART:20220922T000000Z
DTEND:20220922T023000Z
X-MICROSOFT-CDO-ALLDAYEVENT:FALSE
SUMMARY:Hard Hats & High Heels
DESCRIPTION:Save-the-Date\n\nHard Hats & High Heels annual fundraiser for Blue Spruce Habitat for Humanity
X-ALT-DESC;FMTTYPE=text/html:Save-the-Date<br />\nHard Hats &amp\; High Heels annual fundraiser for Blue Spruce Habitat for Humanity
LOCATION:Evergreen Lakehouse
UID:e.298.87449
SEQUENCE:3
DTSTAMP:20260424T054203Z
URL:https://members.evergreenchamber.org/events/details/hard-hats-high-heels-09-21-2022-87449
END:VEVENT

END:VCALENDAR
