BEGIN:VCALENDAR
VERSION:2.0
PRODID:-//ChamberMaster//Event Calendar 2.0//EN
METHOD:PUBLISH
X-PUBLISHED-TTL:P3D
REFRESH-INTERVAL:P3D
CALSCALE:GREGORIAN
BEGIN:VEVENT
DTSTART:20250408T233000Z
DTEND:20250409T010000Z
X-MICROSOFT-CDO-ALLDAYEVENT:FALSE
SUMMARY:Grow Your Greens!
DESCRIPTION:Greens are the gateway plant for veggie gardening\, and growing your own is an environmental victory\, reducing food miles and plastic\, and fresh is healthiest! We'll start seeds in vessels you can keep inside until outdoor temps warm enough to move them out. We'll discuss how to grow\, harvest\, and store greens\, and move the dial toward better health for ourselves and the planet. (Ambitious\, right?!?) Registration includes one kids' drink of your choice. Register at https://sedumandsage.com/2025-plant-parties
X-ALT-DESC;FMTTYPE=text/html:Greens are the gateway plant for veggie gardening\, and growing your own is an environmental victory\, reducing food miles and plastic\, and fresh is healthiest! We&rsquo\;ll start seeds in vessels you can keep inside until outdoor temps warm enough to move them out. We&rsquo\;ll discuss how to grow\, harvest\, and store greens\, and move the dial toward better health for ourselves and the planet. (Ambitious\, right?!?) Registration includes one kids&rsquo\; drink of your choice. Register at https://sedumandsage.com/2025-plant-parties
LOCATION:The Wild Game
UID:e.298.99403
SEQUENCE:3
DTSTAMP:20260420T100840Z
URL:https://members.evergreenchamber.org/events/details/grow-your-greens-99403
END:VEVENT

END:VCALENDAR
