BEGIN:VCALENDAR
VERSION:2.0
PRODID:-//ChamberMaster//Event Calendar 2.0//EN
METHOD:PUBLISH
X-PUBLISHED-TTL:P3D
REFRESH-INTERVAL:P3D
CALSCALE:GREGORIAN
BEGIN:VEVENT
DTSTART;VALUE=DATE:20241102
DTEND;VALUE=DATE:20241103
TRANSP:TRANSPARENT
X-MICROSOFT-CDO-ALLDAYEVENT:TRUE
SUMMARY:GREAT COMPASSION SAND MANDALA TOUR
DESCRIPTION:Saturday\, November 2 10 am   11 am: Reciting the Sutra of Compassion Buddha 11 am   1 pm: Lunch 1 pm   2 pm: Mandala Construction 2 pm   6 pm: Personal Meetings with Geshe Tsewang (4:00 pm   6:00 pm)
X-ALT-DESC;FMTTYPE=text/html:Saturday\, November 2 10 am &ndash\; 11 am: Reciting the Sutra of Compassion Buddha 11 am &ndash\; 1 pm: Lunch 1 pm &ndash\; 2 pm: Mandala Construction 2 pm &ndash\; 6 pm: Personal Meetings with Geshe Tsewang (4:00 pm &ndash\; 6:00 pm)
LOCATION:Congregation Beth Evergreen 2881 Bergen Peak Drive\, Colorado\, 80439
UID:e.298.95345
SEQUENCE:3
DTSTAMP:20260422T171042Z
URL:https://members.evergreenchamber.org/events/details/great-compassion-sand-mandala-tour-11-02-2024-95345
END:VEVENT

END:VCALENDAR
