BEGIN:VCALENDAR
VERSION:2.0
PRODID:-//ChamberMaster//Event Calendar 2.0//EN
METHOD:PUBLISH
X-PUBLISHED-TTL:P3D
REFRESH-INTERVAL:P3D
CALSCALE:GREGORIAN
BEGIN:VEVENT
DTSTART:20221027T233000Z
DTEND:20221028T033000Z
X-MICROSOFT-CDO-ALLDAYEVENT:FALSE
SUMMARY:Goldilocks and the Little Bear
DESCRIPTION:A community benefit supporting the Jefferson County Public Library\, Friends of the Bailey Library & the Clear Creek County Library District. Hosted by Mountain Metro Association of Realtors and Sponsored by Little Bear.\n\n                Silent Auction - Live Music - Buffet Dinner\n\n\n\nSponsored by Mountain Metro Association of REALTORS and hosted by The Little Bear.
X-ALT-DESC;FMTTYPE=text/html:<span style="color: rgb(51\, 51\, 51)\; font-family: sans-serif\, Arial\, Verdana\, &quot\;Trebuchet MS&quot\;\; font-size: 13px\; background-color: rgb(255\, 255\, 255)\;">A community benefit supporting the Jefferson County Public Library\, Friends of the Bailey Library &amp\; the Clear Creek County Library District. Hosted by Mountain Metro Association of Realtors and Sponsored by Little Bear.</span><br />\n&nbsp\;&nbsp\;&nbsp\;&nbsp\;&nbsp\;&nbsp\;&nbsp\;&nbsp\;&nbsp\;&nbsp\;&nbsp\;&nbsp\;&nbsp\; &nbsp\; Silent Auction - Live Music - Buffet Dinner<br />\n<br />\nSponsored by Mountain Metro Association of REALTORS and hosted by The Little Bear.
LOCATION:The Little Bear Saloon in downtown Evergreen
UID:e.298.87147
SEQUENCE:3
DTSTAMP:20260424T040719Z
URL:https://members.evergreenchamber.org/events/details/goldilocks-and-the-little-bear-87147
END:VEVENT

END:VCALENDAR
