BEGIN:VCALENDAR
VERSION:2.0
PRODID:-//ChamberMaster//Event Calendar 2.0//EN
METHOD:PUBLISH
X-PUBLISHED-TTL:P3D
REFRESH-INTERVAL:P3D
CALSCALE:GREGORIAN
BEGIN:VEVENT
DTSTART:20251105T160000Z
DTEND:20251105T230000Z
X-MICROSOFT-CDO-ALLDAYEVENT:FALSE
SUMMARY:Golden Business Summit
DESCRIPTION:Golden Business Summit\n\nEducate + Elevate + Engage\n\nResources & Strategies to Create Resilience in Business\n\n\n\nSpeakers:\n\nPeter Coors - Director of Capital Projects\, MolsonCoors\n\nRenelle Everett Darr - Founder & CEO\, InSight\n\nDan Streeter - CEO Mission Fuel\n\nSarah Thomas - Ultra Marathon Swimmer
X-ALT-DESC;FMTTYPE=text/html:Golden Business Summit<br />\nEducate + Elevate + Engage<br />\nResources &amp\; Strategies to Create Resilience in Business<br />\n<br />\nSpeakers:<br />\nPeter Coors - Director of Capital Projects\, MolsonCoors<br />\nRenelle Everett Darr - Founder &amp\; CEO\, InSight<br />\nDan Streeter - CEO Mission Fuel<br />\nSarah Thomas - Ultra Marathon Swimmer
LOCATION:Mount Vernon Canyon Club
UID:e.298.103092
SEQUENCE:3
DTSTAMP:20260419T224621Z
URL:https://members.evergreenchamber.org/events/details/golden-business-summit-103092
END:VEVENT

END:VCALENDAR
