BEGIN:VCALENDAR
VERSION:2.0
PRODID:-//ChamberMaster//Event Calendar 2.0//EN
METHOD:PUBLISH
X-PUBLISHED-TTL:P3D
REFRESH-INTERVAL:P3D
CALSCALE:GREGORIAN
BEGIN:VEVENT
DTSTART:20250704T164500Z
DTEND:20250704T171500Z
X-MICROSOFT-CDO-ALLDAYEVENT:FALSE
SUMMARY:Goat Yoga Session 2
DESCRIPTION:Goat Yoga is coming to our Foothills 4th Celebration.  This fun morning of yoga will take place in 2 sessions and be limited to 50 participants per session.  We ask that you only sign up for one session so that the most people can experience this special yoga event.  You need to provide your own yoga mat.  NO MATS WILL BE AVAILABLE.
X-ALT-DESC;FMTTYPE=text/html:Goat Yoga is coming to our Foothills 4th Celebration.&nbsp\; This fun morning of yoga will take place in 2 sessions and be limited to 50 participants per session.&nbsp\; We ask that you only sign up for one session so that the most people can experience this special yoga event.&nbsp\; You need to provide your own yoga mat.&nbsp\; NO MATS WILL BE AVAILABLE.&nbsp\;&nbsp\;
LOCATION:Buchanan Ball fields 32003 Ellingwood Trail Evergreen\, CO 80439
UID:e.298.99665
SEQUENCE:3
DTSTAMP:20260422T104752Z
URL:https://members.evergreenchamber.org/events/details/goat-yoga-session-2-99665
END:VEVENT

END:VCALENDAR
