BEGIN:VCALENDAR
VERSION:2.0
PRODID:-//ChamberMaster//Event Calendar 2.0//EN
METHOD:PUBLISH
X-PUBLISHED-TTL:P3D
REFRESH-INTERVAL:P3D
CALSCALE:GREGORIAN
BEGIN:VEVENT
DTSTART:20250415T220000Z
DTEND:20250415T233000Z
X-MICROSOFT-CDO-ALLDAYEVENT:FALSE
SUMMARY:Get Your Ducks in a Row: End-of-Life Planning
DESCRIPTION:Free presentation about easing end-of-life planning anxieties\, having conversations about your healthcare wishes and completing Advance Directive documents. Hosted by FoothillsConversations\, an all-volunteer group at Mt Evans Home Health Care and Hospice. RSVP requested. Snacks and beverage provided.
X-ALT-DESC;FMTTYPE=text/html:Free presentation about easing end-of-life planning anxieties\, having conversations about your healthcare wishes and completing Advance Directive documents. Hosted by FoothillsConversations\, an all-volunteer group at Mt Evans Home Health Care and Hospice. RSVP requested. Snacks and beverage provided.
LOCATION:Mount Evans Home Health Care and Hospice\; 3081 Bergen Peak Dr. Evergreen\, CO\,in the First Floor Conference Room
UID:e.298.99531
SEQUENCE:3
DTSTAMP:20260420T101652Z
URL:https://members.evergreenchamber.org/events/details/get-your-ducks-in-a-row-end-of-life-planning-99531
END:VEVENT

END:VCALENDAR
