BEGIN:VCALENDAR
VERSION:2.0
PRODID:-//ChamberMaster//Event Calendar 2.0//EN
METHOD:PUBLISH
X-PUBLISHED-TTL:P3D
REFRESH-INTERVAL:P3D
CALSCALE:GREGORIAN
BEGIN:VEVENT
DTSTART:20250620T230000Z
DTEND:20250621T030000Z
X-MICROSOFT-CDO-ALLDAYEVENT:FALSE
SUMMARY:Friday Night Smoky Spirits & Street Eats at Revival Brews
DESCRIPTION:Join us Friday\, June 20th for Smoky Spirits & Street Eats. We will have craft specialty smoky cocktails and craft house made street food inspired specials 5 to 9pm. Start your weekend off right with delicious cocktails and food in beautiful downtown Evergreen Colorado!! Happy Hour 3 to 5pm every day!! Cheers!!
X-ALT-DESC;FMTTYPE=text/html:Join us Friday\, June 20th for Smoky Spirits &amp\; Street Eats. We will have craft specialty smoky cocktails and craft house made street food inspired specials 5 to 9pm. Start your weekend off right with delicious cocktails and food in beautiful downtown Evergreen Colorado!! Happy Hour 3 to 5pm every day!! Cheers!!&nbsp\;&nbsp\;
LOCATION:Revival Brews 27845 Hwy 74 downtown Evergreen
UID:e.298.100207
SEQUENCE:3
DTSTAMP:20260420T063830Z
URL:https://members.evergreenchamber.org/events/details/friday-night-smoky-spirits-street-eats-at-revival-brews-100207
END:VEVENT

END:VCALENDAR
