BEGIN:VCALENDAR
VERSION:2.0
PRODID:-//ChamberMaster//Event Calendar 2.0//EN
METHOD:PUBLISH
X-PUBLISHED-TTL:P3D
REFRESH-INTERVAL:P3D
CALSCALE:GREGORIAN
BEGIN:VEVENT
DTSTART:20260501T230000Z
DTEND:20260502T030000Z
X-MICROSOFT-CDO-ALLDAYEVENT:FALSE
SUMMARY:Friday Night Date Night at Revival Brews Every Friday at 5pm!!
DESCRIPTION:Join us Fridays for Friday Night Date Night!! Every Friday - A different delicious craft house made food special every Friday\, plus craft drink specials including cocktails and mocktails. Follow us on Facebook and Instagram for all our upcoming free events\, free live music\, craft food\, craft cocktails and craft mocktail specials. Cheers!!
X-ALT-DESC;FMTTYPE=text/html:Join us Fridays for Friday Night Date Night!! Every Friday - A different delicious craft house made food special every Friday\, plus craft drink specials including cocktails and mocktails. Follow us on Facebook and Instagram for all our upcoming free events\, free live music\, craft food\, craft cocktails and craft mocktail specials. Cheers!!
LOCATION:Revival Brews 27845 Hwy 74 Downtown Evergreen
UID:e.298.106466
SEQUENCE:3
DTSTAMP:20260423T110025Z
URL:https://members.evergreenchamber.org/events/details/friday-night-date-night-at-revival-brews-every-friday-at-5pm-05-01-2026-106466
END:VEVENT

END:VCALENDAR
