BEGIN:VCALENDAR
VERSION:2.0
PRODID:-//ChamberMaster//Event Calendar 2.0//EN
METHOD:PUBLISH
X-PUBLISHED-TTL:P3D
REFRESH-INTERVAL:P3D
CALSCALE:GREGORIAN
BEGIN:VEVENT
DTSTART:20260308T003000Z
DTEND:20260308T023000Z
X-MICROSOFT-CDO-ALLDAYEVENT:FALSE
SUMMARY:Free Live Music by The One & Only Jon Ham Saturday\, March 7th 5:30pm to 7:30pm!!
DESCRIPTION:Family Night with The One & Only Jon Ham at Revival Brews playing live music for everyone to enjoy!! Jon makes it fun for the whole family. Don't miss out\, save the date!! Come enjoy this Saturday evening with us for free live music\, craft food\, beer\, cocktails and mocktails. Coloring themed sheets for kids. Happy hour 3 to 5pm every day!! We hope to see you soon!! Cheers!
X-ALT-DESC;FMTTYPE=text/html:Family Night with The One &amp\; Only Jon Ham at Revival Brews playing live music for everyone to enjoy!! Jon makes it fun for the whole family. Don&#39\;t miss out\, save the date!! Come enjoy this Saturday evening with us for free live music\, craft food\, beer\, cocktails and mocktails. Coloring themed sheets for kids. Happy hour 3 to 5pm every day!! We hope to see you soon!! Cheers!&nbsp\;
LOCATION:Revival Brews in Downtown Evergreen 27845 Hwy 74
UID:e.298.103156
SEQUENCE:3
DTSTAMP:20260419T171843Z
URL:https://members.evergreenchamber.org/events/details/free-live-music-by-the-one-only-jon-ham-saturday-october-18th-5-7pm-103156
END:VEVENT

END:VCALENDAR
