BEGIN:VCALENDAR
VERSION:2.0
PRODID:-//ChamberMaster//Event Calendar 2.0//EN
METHOD:PUBLISH
X-PUBLISHED-TTL:P3D
REFRESH-INTERVAL:P3D
CALSCALE:GREGORIAN
BEGIN:VEVENT
DTSTART:20250727T160000Z
DTEND:20250727T180000Z
X-MICROSOFT-CDO-ALLDAYEVENT:FALSE
SUMMARY:Free concert by the students of the Colorado Jazz Ambassadors
DESCRIPTION:Join us for a spectacular FREE concert by the student band\, the Colorado Jazz Ambassadors\, lead by the fabulous musician\, producer\, educator and clinician\, Trombone/Euphonium player Doug Tidaback. Starts with a New Orleans style procession down Fireweed Drive from the Evergreen Christian church around 10am to Center Stage.
X-ALT-DESC;FMTTYPE=text/html:Join us for a spectacular FREE concert by the student band\, the Colorado Jazz Ambassadors\, lead by the fabulous musician\, producer\, educator and clinician\, Trombone/Euphonium player Doug Tidaback. Starts with a New Orleans style procession down Fireweed Drive from the Evergreen Christian church around 10am to Center Stage.
LOCATION:Ovation West's Center Stage 27608 Fireweed Drive\, Evergreen CO 80439
UID:e.298.95905
SEQUENCE:3
DTSTAMP:20260420T055236Z
URL:https://members.evergreenchamber.org/events/details/free-concert-by-the-students-of-the-colorado-jazz-ambassadors-95905
END:VEVENT

END:VCALENDAR
