BEGIN:VCALENDAR
VERSION:2.0
PRODID:-//ChamberMaster//Event Calendar 2.0//EN
METHOD:PUBLISH
X-PUBLISHED-TTL:P3D
REFRESH-INTERVAL:P3D
CALSCALE:GREGORIAN
BEGIN:VEVENT
DTSTART:20250620T000000Z
DTEND:20250620T020000Z
X-MICROSOFT-CDO-ALLDAYEVENT:FALSE
SUMMARY:FREE BINGO NIGHT THURSDAY AT 6PM
DESCRIPTION:Join us Thursday at 6pm for some Bingo Fun. It is free to play with prizes for every game. Fun for all ages!! Come play with us!!
X-ALT-DESC;FMTTYPE=text/html:Join us Thursday at 6pm for some Bingo Fun. It is free to play with prizes for every game. Fun for all ages!! Come play with us!!&nbsp\;
LOCATION:Revival Brews downtown Evergreen
UID:e.298.99330
SEQUENCE:3
DTSTAMP:20260420T082034Z
URL:https://members.evergreenchamber.org/events/details/free-bingo-night-thursday-at-6pm-99330
END:VEVENT

END:VCALENDAR
