BEGIN:VCALENDAR
VERSION:2.0
PRODID:-//ChamberMaster//Event Calendar 2.0//EN
METHOD:PUBLISH
X-PUBLISHED-TTL:P3D
REFRESH-INTERVAL:P3D
CALSCALE:GREGORIAN
BEGIN:VEVENT
DTSTART:20210507T180000Z
DTEND:20210507T180000Z
X-MICROSOFT-CDO-ALLDAYEVENT:FALSE
SUMMARY:Flowers First Friday Outdoor Market - handcrafted\; unique\, local Colorado made!
DESCRIPTION:Join Daddy's Homemade Syrup Friday May 7th 4pm-8pm Outdoor Market at Flower A Hair Studio - Adobe Creek\n\nFlower's First Friday was designed to help local artisans show their goods as well as help facilitate sustainability in our community. Our artists/vendors offer goods that are handcrafted and unique. We invite people to come and shop at our outdoor market with live music and healthy food. This is a feel good event from the things you see\, learn\, and go home with.
X-ALT-DESC;FMTTYPE=text/html:<div><span style="color:rgb(34\, 34\, 34)\; font-family:arial\,helvetica\,sans-serif\; font-size:small">Join Daddy&#39\;s Homemade Syrup&nbsp\;<strong>Friday May 7th 4pm-8pm Outdoor Market at Flower A Hair Studio - Adobe Creek</strong></span></div>\n\n<div style="text-align:center"><span style="color:rgb(34\, 34\, 34)\; font-family:arial\,helvetica\,sans-serif\; font-size:small">Flower&#39\;s First Friday was designed to help local artisans show their goods as well as help facilitate sustainability in our community. Our artists/vendors offer goods that are handcrafted and unique. We invite people to come and shop at our outdoor market with live music and healthy food. This is a feel good event from the things you see\, learn\, and go home with.&nbsp\;</span><br />\n&nbsp\;</div>\n\n<div>&nbsp\;</div>\n
LOCATION:Flower A Hair Studio Adobe Creek Buildings - Kittredge 26290 Hwy 74 Evergreen\, CO 80439
UID:e.298.83868
SEQUENCE:3
DTSTAMP:20260421T115036Z
URL:https://members.evergreenchamber.org/events/details/flowers-first-friday-outdoor-market-handcrafted-unique-local-colorado-made-83868
END:VEVENT

END:VCALENDAR
