BEGIN:VCALENDAR
VERSION:2.0
PRODID:-//ChamberMaster//Event Calendar 2.0//EN
METHOD:PUBLISH
X-PUBLISHED-TTL:P3D
REFRESH-INTERVAL:P3D
CALSCALE:GREGORIAN
BEGIN:VEVENT
DTSTART:20220114T233000Z
DTEND:20220115T003000Z
X-MICROSOFT-CDO-ALLDAYEVENT:FALSE
SUMMARY:Fireside Friday's - Cactus Jack's Saloon
DESCRIPTION:Friday at 4:30\, we will meet at a different hearth around town! Join the Evergreen Chamber and meet your fellow Members.
X-ALT-DESC;FMTTYPE=text/html:Friday at 4:30\, we will meet at a different hearth around town! Join the Evergreen Chamber and meet your fellow Members.<br />\n&nbsp\;
LOCATION:Cactus Jack's Salon and Grill 4651 S. HWY 73 Evergreen\, CO 80439
UID:e.298.86432
SEQUENCE:3
DTSTAMP:20260424T180410Z
URL:https://members.evergreenchamber.org/events/details/fireside-friday-s-cactus-jack-s-saloon-86432
END:VEVENT

END:VCALENDAR
