BEGIN:VCALENDAR
VERSION:2.0
PRODID:-//ChamberMaster//Event Calendar 2.0//EN
METHOD:PUBLISH
X-PUBLISHED-TTL:P3D
REFRESH-INTERVAL:P3D
CALSCALE:GREGORIAN
BEGIN:VEVENT
DTSTART:20221127T230000Z
DTEND:20221128T003000Z
X-MICROSOFT-CDO-ALLDAYEVENT:FALSE
SUMMARY:Farolito and Pinecone Ceremony
DESCRIPTION:Usher in the holiday season by honoring a community member who has enlightened the hearts and minds of others. Toss a pinecone into the fire in remembrance of a loved one\, sing carols\, and enjoy music provided by the Colorado School of Mines and other strolling musicians.\n\nFree refreshments are served.
X-ALT-DESC;FMTTYPE=text/html:Usher in the holiday season by honoring a community member who has enlightened the hearts and minds of others. Toss a pinecone into the fire in remembrance of a loved one\, sing carols\, and enjoy music provided by the Colorado School of Mines and other strolling musicians.<br />\nFree refreshments are served.
LOCATION:The Fort Restaurant 19192 Hwy 8 Morrison\, CO 80465
UID:e.298.83495
SEQUENCE:3
DTSTAMP:20260424T023217Z
URL:https://members.evergreenchamber.org/events/details/farolito-and-pinecone-ceremony-83495
END:VEVENT

END:VCALENDAR
