BEGIN:VCALENDAR
VERSION:2.0
PRODID:-//ChamberMaster//Event Calendar 2.0//EN
METHOD:PUBLISH
X-PUBLISHED-TTL:P3D
REFRESH-INTERVAL:P3D
CALSCALE:GREGORIAN
BEGIN:VEVENT
DTSTART:20190618T160000Z
DTEND:20190618T180000Z
X-MICROSOFT-CDO-ALLDAYEVENT:FALSE
SUMMARY:Farmers Market
DESCRIPTION:Fresh vegetables\, fruit\, bakery\, coffee\, honey and other delights.
X-ALT-DESC;FMTTYPE=text/html:Fresh vegetables\, fruit\, bakery\, coffee\, honey and other delights.
LOCATION:Bergen Village Shopping Center
UID:e.298.78063
SEQUENCE:3
DTSTAMP:20260421T000900Z
URL:https://members.evergreenchamber.org/events/details/farmers-market-06-18-2019-78063
END:VEVENT

END:VCALENDAR
