BEGIN:VCALENDAR
VERSION:2.0
PRODID:-//ChamberMaster//Event Calendar 2.0//EN
METHOD:PUBLISH
X-PUBLISHED-TTL:P3D
REFRESH-INTERVAL:P3D
CALSCALE:GREGORIAN
BEGIN:VEVENT
DTSTART:20251115T230000Z
DTEND:20251116T020000Z
X-MICROSOFT-CDO-ALLDAYEVENT:FALSE
SUMMARY:Family Night Out - Fall Fling
DESCRIPTION:Bring the whole family for an evening of laughter\, games\, and sweet fall fun! Test your skills with archery tag\, get creative at our family craft station\, & build your perfect treat at the caramel apple bar. Dinner will be provided by Jimmy John's\, so come hungry and ready for a great night together.
X-ALT-DESC;FMTTYPE=text/html:Bring the whole family for an evening of laughter\, games\, and sweet fall fun! Test your skills with archery tag\, get creative at our family craft station\, &amp\; build your perfect treat at the caramel apple bar. Dinner will be provided by Jimmy John&#39\;s\, so come hungry and ready for a great night together.
LOCATION:Wulf Rec Center
UID:e.298.103992
SEQUENCE:3
DTSTAMP:20260419T224756Z
URL:https://members.evergreenchamber.org/events/details/family-night-out-fall-fling-103992
END:VEVENT

END:VCALENDAR
