BEGIN:VCALENDAR
VERSION:2.0
PRODID:-//ChamberMaster//Event Calendar 2.0//EN
METHOD:PUBLISH
X-PUBLISHED-TTL:P3D
REFRESH-INTERVAL:P3D
CALSCALE:GREGORIAN
BEGIN:VEVENT
DTSTART:20211003T173000Z
DTEND:20211003T193000Z
X-MICROSOFT-CDO-ALLDAYEVENT:FALSE
SUMMARY:Fall Festival & Block Party
DESCRIPTION:We will have our annual Fall Festival and block party on Sunday\, October 3 at 11:30AM\, after the 10:30 service. There will be lunch\, a bouncy castle\, face painting\, the Kona Ice truck\, carnival games\, and a caramel apple decorating station! The whole community is invited! Please mark your calendars!
X-ALT-DESC;FMTTYPE=text/html:<big><span style="background-color:rgb(249\, 249\, 249)\; font-family:roboto\,sans-serif\; font-size:14px">We will have our annual Fall Festival and block party on Sunday\, October 3 at 11:30AM\, after the 10:30 service. There will be lunch\, a bouncy castle\, face painting\, the Kona Ice truck\, carnival games\, and a caramel apple decorating station! The whole community is invited! Please mark your calendars!</span></big>
LOCATION:United Methodist Church of Evergreen 3757 Ponderosa Dr Evergreen CO 80439
UID:e.298.84761
SEQUENCE:3
DTSTAMP:20260424T224404Z
URL:https://members.evergreenchamber.org/events/details/fall-festival-block-party-84761
END:VEVENT

END:VCALENDAR
