BEGIN:VCALENDAR
VERSION:2.0
PRODID:-//ChamberMaster//Event Calendar 2.0//EN
METHOD:PUBLISH
X-PUBLISHED-TTL:P3D
REFRESH-INTERVAL:P3D
CALSCALE:GREGORIAN
BEGIN:VEVENT
DTSTART:20260430T220000Z
DTEND:20260501T010000Z
X-MICROSOFT-CDO-ALLDAYEVENT:FALSE
SUMMARY:EXHIBITION OPENING: Ecotones: Water & Thresholds of Change
DESCRIPTION:EXHIBITION OPENING: Ecotones: Water & Thresholds of Change\n\n\nOpening Reception: Thursday\, April 30 from 4-7 pm\n\nExhibition Run: April 30   June 6\n\nEcotones: Water & Thresholds of Change is a juried exhibition exploring water as both subject and metaphor\, from the edges of rivers and wetlands to the threshold moments where systems shift and transformation takes hold. Featuring artists working in all media\, the exhibition traces water's power\, fragility\, and capacity to sustain life amid change\, ecological and otherwise.\n\nJoin us for the Opening Reception on Thursday\, April 30\, 2026\, where jurors' awards will be announced beginning at 6 pm\, including Best of Show and several Honorable Mentions. The reception is a wonderful opportunity to meet the artists\, explore the work\, and celebrate the creative community that makes exhibitions like this possible.\n\nEcotones is presented in partnership with the Women's Caucus for Art\, Colorado Chapter\, and made possible with generous support from SCFD\, Mountain Home\, and Alexa Interiors.
X-ALT-DESC;FMTTYPE=text/html:<h1>EXHIBITION OPENING: Ecotones: Water &amp\; Thresholds of Change</h1>\n\n<div>\n<p><strong>Opening Reception: Thursday\, April 30 from 4-7 pm</strong></p>\n\n<p><strong>Exhibition Run: April 30 &ndash\; June 6</strong></p>\n\n<p><em>Ecotones: Water &amp\; Thresholds of Change</em>&nbsp\;is a juried exhibition exploring water as both subject and metaphor\, from the edges of rivers and wetlands to the threshold moments where systems shift and transformation takes hold. Featuring artists working in all media\, the exhibition traces water&rsquo\;s power\, fragility\, and capacity to sustain life amid change\, ecological and otherwise.</p>\n\n<p>Join us for the Opening Reception on Thursday\, April 30\, 2026\, where jurors&rsquo\; awards will be announced beginning at 6 pm\, including Best of Show and several Honorable Mentions. The reception is a wonderful opportunity to meet the artists\, explore the work\, and celebrate the creative community that makes exhibitions like this possible.</p>\n\n<p><em>Ecotones</em>&nbsp\;is presented in partnership with the&nbsp\;<strong>Women&rsquo\;s Caucus for Art\, Colorado Chapter</strong>\, and made possible with generous support from&nbsp\;<strong>SCFD</strong>\,&nbsp\;<strong>Mountain Home</strong>\, and&nbsp\;<strong>Alexa Interiors</strong>.</p>\n</div>\n
LOCATION:CENTER FOR THE ARTS EVERGREEN 31880 Rocky Village Drive Evergreen\, CO 80439
UID:e.298.106464
SEQUENCE:3
DTSTAMP:20260423T105619Z
URL:https://members.evergreenchamber.org/events/details/exhibition-opening-ecotones-water-thresholds-of-change-106464
END:VEVENT

END:VCALENDAR
