BEGIN:VCALENDAR
VERSION:2.0
PRODID:-//ChamberMaster//Event Calendar 2.0//EN
METHOD:PUBLISH
X-PUBLISHED-TTL:P3D
REFRESH-INTERVAL:P3D
CALSCALE:GREGORIAN
BEGIN:VEVENT
DTSTART:20240120T030000Z
DTEND:20240120T065500Z
X-MICROSOFT-CDO-ALLDAYEVENT:FALSE
SUMMARY:Evil Dave w/ Shawn Eckels (Andy Frasco and the UN)\, Todd Smallie (JJ GREY and MOFRO) and Shawn Gilmore (Johnny and the Mongrels)
DESCRIPTION:Heavy Duty rock and roll power trio brought to you by Shawn Eckels (Andy Frasco & UN)\, Todd Smallie and Shaun Gilmore (J.J. Grey & the Mofro).  https://www.instagram.com/evildaveband/ \n\nFor more information please go to EvergreenLiveMusic.com
X-ALT-DESC;FMTTYPE=text/html:<span style="color:rgb(58\, 58\, 60)\; font-family:lato\,sans-serif\,apple color emoji\,segoe ui emoji\,segoe ui symbol\,noto color emoji\; font-size:16.94px">Heavy Duty rock and roll power trio brought to you by Shawn Eckels (Andy Frasco &amp\; UN)\, Todd Smallie and Shaun Gilmore (J.J. Grey &amp\; the Mofro).&nbsp\;&nbsp\;https://www.instagram.com/evildaveband/&nbsp\;<br />\nFor more information please go to EvergreenLiveMusic.com</span>
LOCATION:Cactus Jack's Saloon in downtown Evergreen
UID:e.298.91433
SEQUENCE:3
DTSTAMP:20260423T062918Z
URL:https://members.evergreenchamber.org/events/details/evil-dave-w-shawn-eckels-andy-frasco-and-the-un-todd-smallie-jj-grey-and-mofro-and-shawn-gilmore-johnny-and-the-mongrels-91433
END:VEVENT

END:VCALENDAR
