BEGIN:VCALENDAR
VERSION:2.0
PRODID:-//ChamberMaster//Event Calendar 2.0//EN
METHOD:PUBLISH
X-PUBLISHED-TTL:P3D
REFRESH-INTERVAL:P3D
CALSCALE:GREGORIAN
BEGIN:VEVENT
DTSTART:20230106T200000Z
DTEND:20230107T000000Z
X-MICROSOFT-CDO-ALLDAYEVENT:FALSE
SUMMARY:Evergreen Sustainability Tree Recycling
DESCRIPTION:Holiday Tree Recycling Event. Save your holiday tree (minus trimmings) from the landfill! Bring it to the event and it will be mulched by Lam Tree Services and given back to the community. Donations appreciated.
X-ALT-DESC;FMTTYPE=text/html:Holiday Tree Recycling Event. Save your holiday tree (minus trimmings) from the landfill! Bring it to the event and it will be mulched by Lam Tree Services and given back to the community. Donations appreciated.
LOCATION:Bergen Park - Vacant Lot across from King Soopers
UID:e.298.88489
SEQUENCE:3
DTSTAMP:20260423T234818Z
URL:https://members.evergreenchamber.org/events/details/evergreen-sustainability-tree-recycling-88489
END:VEVENT

END:VCALENDAR
