BEGIN:VCALENDAR
VERSION:2.0
PRODID:-//ChamberMaster//Event Calendar 2.0//EN
METHOD:PUBLISH
X-PUBLISHED-TTL:P3D
REFRESH-INTERVAL:P3D
CALSCALE:GREGORIAN
BEGIN:VEVENT
DTSTART:20230114T160000Z
DTEND:20230114T220000Z
X-MICROSOFT-CDO-ALLDAYEVENT:FALSE
SUMMARY:Evergreen Sustainability Tree and Styrofoam Recycling
DESCRIPTION:Holiday Tree and Styrofoam Recycling Event. Save your holiday tree (minus trimmings) from the landfill! Bring it to the event and it will be mulched by Lam Tree Services and given back to the community. Block styrofoam also accepted. Donations appreciated.
X-ALT-DESC;FMTTYPE=text/html:Holiday Tree and Styrofoam Recycling Event. Save your holiday tree (minus trimmings) from the landfill! Bring it to the event and it will be mulched by Lam Tree Services and given back to the community. Block styrofoam also accepted. Donations appreciated.
LOCATION:Bergen Village - Vacant lot across from King Soopers
UID:e.298.88492
SEQUENCE:3
DTSTAMP:20260423T233254Z
URL:https://members.evergreenchamber.org/events/details/evergreen-sustainability-tree-and-styrofoam-recycling-01-14-2023-88492
END:VEVENT

END:VCALENDAR
