BEGIN:VCALENDAR
VERSION:2.0
PRODID:-//ChamberMaster//Event Calendar 2.0//EN
METHOD:PUBLISH
X-PUBLISHED-TTL:P3D
REFRESH-INTERVAL:P3D
CALSCALE:GREGORIAN
BEGIN:VEVENT
DTSTART:20230114T160000Z
DTEND:20230114T220000Z
X-MICROSOFT-CDO-ALLDAYEVENT:FALSE
SUMMARY:Evergreen Sustainability Tree and Stryofoam Recycling
DESCRIPTION:Holiday Tree and Styrofoam Recycling Event. Save your holiday tree (minus trimmings) from the landfill! Bring it to the event and it will be mulched by Lam Tree Services and given back to the community. Block styrofoam also accepted. Donations appreciated.
X-ALT-DESC;FMTTYPE=text/html:Holiday Tree and Styrofoam Recycling Event. Save your holiday tree (minus trimmings) from the landfill! Bring it to the event and it will be mulched by Lam Tree Services and given back to the community. Block styrofoam also accepted. Donations appreciated.
LOCATION:Evergreen Lutheran Church - 5980 County Hwy 73\, Evergreen
UID:e.298.88493
SEQUENCE:3
DTSTAMP:20260423T232700Z
URL:https://members.evergreenchamber.org/events/details/evergreen-sustainability-tree-and-stryofoam-recycling-88493
END:VEVENT

END:VCALENDAR
