BEGIN:VCALENDAR
VERSION:2.0
PRODID:-//ChamberMaster//Event Calendar 2.0//EN
METHOD:PUBLISH
X-PUBLISHED-TTL:P3D
REFRESH-INTERVAL:P3D
CALSCALE:GREGORIAN
BEGIN:VEVENT
DTSTART:20250705T180000Z
DTEND:20250705T200000Z
X-MICROSOFT-CDO-ALLDAYEVENT:FALSE
SUMMARY:Evergreen's 150th - Sacred Spaces
DESCRIPTION:Topic: Congregation Beth Evergreen and the Open Sky Amphitheater\n\nHosted by Jamie Arnold and Sarah Hess
X-ALT-DESC;FMTTYPE=text/html:Topic: Congregation Beth Evergreen and the Open Sky Amphitheater<br />\nHosted by Jamie Arnold and Sarah Hess<br />\n&nbsp\;
LOCATION:Congregation Beth Evergreen 2981 Bergen Peak Drive Evergreen\, CO
UID:e.298.98245
SEQUENCE:3
DTSTAMP:20260423T070657Z
URL:https://members.evergreenchamber.org/events/details/evergreen-s-150th-sacred-spaces-98245
END:VEVENT

END:VCALENDAR
