BEGIN:VCALENDAR
VERSION:2.0
PRODID:-//ChamberMaster//Event Calendar 2.0//EN
METHOD:PUBLISH
X-PUBLISHED-TTL:P3D
REFRESH-INTERVAL:P3D
CALSCALE:GREGORIAN
BEGIN:VEVENT
DTSTART:20250607T180000Z
DTEND:20250607T200000Z
X-MICROSOFT-CDO-ALLDAYEVENT:FALSE
SUMMARY:Evergreen's 150th - Sacred Spaces
DESCRIPTION:Topic: Bear Creek Cemetery\n\nHosted by Elaine Hayden and Rose Smith
X-ALT-DESC;FMTTYPE=text/html:Topic: Bear Creek Cemetery<br />\nHosted by Elaine Hayden and Rose Smith<br />\n&nbsp\;
LOCATION:Bear Creek Cemetery 4099 Hwy 74 Parkway Evergreen\, CO
UID:e.298.98244
SEQUENCE:3
DTSTAMP:20260420T081946Z
URL:https://members.evergreenchamber.org/events/details/evergreen-s-150th-sacred-spaces-98244
END:VEVENT

END:VCALENDAR
