BEGIN:VCALENDAR
VERSION:2.0
PRODID:-//ChamberMaster//Event Calendar 2.0//EN
METHOD:PUBLISH
X-PUBLISHED-TTL:P3D
REFRESH-INTERVAL:P3D
CALSCALE:GREGORIAN
BEGIN:VEVENT
DTSTART:20210828T150000Z
DTEND:20210828T200000Z
X-MICROSOFT-CDO-ALLDAYEVENT:FALSE
SUMMARY:Evergreen Rotary Recycle Day
DESCRIPTION:Evergreen Rotary 12th Annual Mereth Meade Recycle Day is ON for Saturday\, August 28. Mark Your Calendars!!! More details to come!
X-ALT-DESC;FMTTYPE=text/html:Evergreen Rotary 12th Annual Mereth Meade Recycle Day is ON for Saturday\, August 28. Mark Your Calendars!!! More details to come!
LOCATION:Evergreen Country Day School
UID:e.298.83875
SEQUENCE:3
DTSTAMP:20260425T013033Z
URL:https://members.evergreenchamber.org/events/details/evergreen-rotary-recycle-day-83875
END:VEVENT

END:VCALENDAR
