BEGIN:VCALENDAR
VERSION:2.0
PRODID:-//ChamberMaster//Event Calendar 2.0//EN
METHOD:PUBLISH
X-PUBLISHED-TTL:P3D
REFRESH-INTERVAL:P3D
CALSCALE:GREGORIAN
BEGIN:VEVENT
DTSTART:20210512T160000Z
DTEND:20210512T220000Z
X-MICROSOFT-CDO-ALLDAYEVENT:FALSE
SUMMARY:EverGREEN Refill Station Grand Opening
DESCRIPTION:Its coming!  \n\nGet ready to add a new R to your household routine.   Reduce. Reuse. Recycle   so many R's and Now Refill!\n\nEvergreen Sustainability Alliance (ESA) is bringing you a new way to waste less in your home.  EverGREEN Refill Station.\n\n \n\n\nSay good-bye to single-use plastics & hello to a zero-waste plastic solution. Our mountains need us! \n\n \n\nVisit us at 1232 Bergen Parkway (Inside the Habitat Restore)\n\n \n\nMay 12 10a-4p\n\nMay 14 11a-4p\n\nMay 15 10a-4p\n\n \n\nWe'll have prizes\, a puppet show and more throughout the week.  \n\n \n\nSo get those plastic containers washed and come fill up on eco-friendly hand soap\, dish soap\, laundry soap & more!   YOU can make a difference!\n\n \n\nFollow us for all the fun activities happening during the week.
X-ALT-DESC;FMTTYPE=text/html:<div><span style="font-size:14px"><span style="font-family:tahoma"><strong>Its coming! &nbsp\;</strong></span></span></div>\n\n<div><span style="font-size:14px"><span style="font-family:tahoma">Get ready to add a new R to your household routine. &nbsp\;&nbsp\;<span style="color:inherit"><span style="color:inherit">Reduce. Reuse. Recycle</span><span style="color:inherit">&hellip\;</span><span style="color:inherit">&nbsp\; so many R</span><span style="color:inherit">&rsquo\;</span><span style="color:inherit">s</span>&hellip\;and Now Refill!</span></span></span></div>\n\n<div><span style="font-size:14px"><span style="font-family:tahoma">Evergreen Sustainability Alliance (ESA) is bringing you a new way to waste less in your home.&nbsp\; EverGREEN Refill Station.</span></span></div>\n\n<div>&nbsp\;</div>\n\n<div>\n<div><span style="font-size:14px"><span style="font-family:tahoma">Say good-bye to single-use plastics &amp\; hello to a zero-waste plastic solution. Our mountains need us!&nbsp\;</span></span></div>\n\n<div>&nbsp\;</div>\n\n<div><span style="font-size:14px"><span style="font-family:tahoma">Visit us at 1232 Bergen Parkway (Inside the Habitat Restore)</span></span></div>\n\n<div>&nbsp\;</div>\n\n<div><span style="font-size:14px"><span style="font-family:tahoma">May 12 10a-4p<br />\nMay 14 11a-4p</span></span></div>\n\n<div><span style="font-size:14px"><span style="font-family:tahoma">May 15 10a-4p</span></span></div>\n\n<div>&nbsp\;</div>\n\n<div><span style="font-size:14px"><span style="font-family:tahoma">We&rsquo\;ll have prizes\, a puppet show and more throughout the week. &nbsp\;</span></span></div>\n\n<div>&nbsp\;</div>\n\n<div><span style="font-size:14px"><span style="font-family:tahoma">So get those plastic containers washed and come fill up on eco-friendly hand soap\, dish soap\, laundry soap &amp\; more! &nbsp\; YOU can make a difference!</span></span></div>\n\n<div>&nbsp\;</div>\n\n<div><span style="font-size:14px"><span style="font-family:tahoma">Follow us for all the fun activities happening during the week.&nbsp\;&nbsp\;</span></span></div>\n</div>\n
LOCATION:1232 Bergen Parkway (inside Habitat Restore)
UID:e.298.83899
SEQUENCE:3
DTSTAMP:20260421T114717Z
URL:https://members.evergreenchamber.org/events/details/evergreen-refill-station-grand-opening-83899
END:VEVENT

END:VCALENDAR
