BEGIN:VCALENDAR
VERSION:2.0
PRODID:-//ChamberMaster//Event Calendar 2.0//EN
METHOD:PUBLISH
X-PUBLISHED-TTL:P3D
REFRESH-INTERVAL:P3D
CALSCALE:GREGORIAN
BEGIN:VEVENT
DTSTART:20220716T150000Z
DTEND:20220716T220000Z
X-MICROSOFT-CDO-ALLDAYEVENT:FALSE
SUMMARY:Evergreen Garden Tour
DESCRIPTION:Tour five Evergreen gardens! All proceeds go towards planting and maintaining our 9 beautiful community gardens.
X-ALT-DESC;FMTTYPE=text/html:Tour five Evergreen gardens! All proceeds go towards planting and maintaining our 9 beautiful community gardens.
LOCATION:TBD
UID:e.298.83903
SEQUENCE:3
DTSTAMP:20260424T082704Z
URL:https://members.evergreenchamber.org/events/details/evergreen-garden-tour-07-16-2022-83903
END:VEVENT

END:VCALENDAR
