BEGIN:VCALENDAR
VERSION:2.0
PRODID:-//ChamberMaster//Event Calendar 2.0//EN
METHOD:PUBLISH
X-PUBLISHED-TTL:P3D
REFRESH-INTERVAL:P3D
CALSCALE:GREGORIAN
BEGIN:VEVENT
DTSTART:20251112T003000Z
DTEND:20251112T020000Z
X-MICROSOFT-CDO-ALLDAYEVENT:FALSE
SUMMARY:EverGreen Drinks
DESCRIPTION:Join the conversation about Sustainability & Evergreen.\n\nMegan Mitchell from Foothills Recycling will be discussing the hows\, whys and why nots of recycling. \n\nBring a note pad and a little bit of hope!
X-ALT-DESC;FMTTYPE=text/html:<p><span style="color:rgba(34\,23\,22\,var(--O42jJQ\,1))">Join the conversation about Sustainability &amp\; Evergreen.</span></p>\n\n<p><span style="color:rgba(34\,23\,22\,var(--O42jJQ\,1))">Megan Mitchell from Foothills Recycling will be discussing the hows\, whys and why nots of recycling.</span><span style="color:rgba(34\,23\,22\,var(--O42jJQ\,1))"> </span></p>\n\n<p><span style="color:rgba(34\,23\,22\,var(--O42jJQ\,1))">Bring a note pad and a little bit of hope!</span></p>\n
LOCATION:Cactus Jack's 4651 Hwy 73
UID:e.298.103969
SEQUENCE:3
DTSTAMP:20260419T224551Z
URL:https://members.evergreenchamber.org/events/details/evergreen-drinks-103969
END:VEVENT

END:VCALENDAR
